BEGIN:VCALENDAR
VERSION:2.0
PRODID:-// - ECPv6.10.1.1//NONSGML v1.0//EN
CALSCALE:GREGORIAN
METHOD:PUBLISH
X-ORIGINAL-URL:https://eseuniversitariadelatlantico.gov.co
X-WR-CALDESC:Eventos para 
REFRESH-INTERVAL;VALUE=DURATION:PT1H
X-Robots-Tag:noindex
X-PUBLISHED-TTL:PT1H
BEGIN:VTIMEZONE
TZID:UTC
BEGIN:STANDARD
TZOFFSETFROM:+0000
TZOFFSETTO:+0000
TZNAME:UTC
DTSTART:20240101T000000
END:STANDARD
END:VTIMEZONE
BEGIN:VEVENT
DTSTART;VALUE=DATE:20240913
DTEND;VALUE=DATE:20240914
DTSTAMP:20260423T172742
CREATED:20240912T161738Z
LAST-MODIFIED:20240912T162314Z
UID:23937-1726185600-1726271999@eseuniversitariadelatlantico.gov.co
SUMMARY:DÍA MUNDIAL DE LA SEPSIS
DESCRIPTION:Inicio » Evento
URL:https://eseuniversitariadelatlantico.gov.co/event/dia-mundial-de-la-sepsis/
END:VEVENT
BEGIN:VEVENT
DTSTART;VALUE=DATE:20240913
DTEND;VALUE=DATE:20240914
DTSTAMP:20260423T172742
CREATED:20240912T161855Z
LAST-MODIFIED:20240912T161855Z
UID:23939-1726185600-1726271999@eseuniversitariadelatlantico.gov.co
SUMMARY:DÍA MUNDIAL DE LA CONCIENCIACIÓN DE LA ENFERMEDAD CELÍACA
DESCRIPTION:Inicio » Evento
URL:https://eseuniversitariadelatlantico.gov.co/event/dia-mundial-de-la-concienciacion-de-la-enfermedad-celiaca/
END:VEVENT
END:VCALENDAR