BEGIN:VCALENDAR
VERSION:2.0
PRODID:-// - ECPv6.10.1.1//NONSGML v1.0//EN
CALSCALE:GREGORIAN
METHOD:PUBLISH
X-ORIGINAL-URL:https://eseuniversitariadelatlantico.gov.co
X-WR-CALDESC:Eventos para 
REFRESH-INTERVAL;VALUE=DURATION:PT1H
X-Robots-Tag:noindex
X-PUBLISHED-TTL:PT1H
BEGIN:VTIMEZONE
TZID:UTC
BEGIN:STANDARD
TZOFFSETFROM:+0000
TZOFFSETTO:+0000
TZNAME:UTC
DTSTART:20240101T000000
END:STANDARD
END:VTIMEZONE
BEGIN:VEVENT
DTSTART;VALUE=DATE:20241025
DTEND;VALUE=DATE:20241026
DTSTAMP:20260420T103313
CREATED:20241020T212158Z
LAST-MODIFIED:20241020T212158Z
UID:24189-1729814400-1729900799@eseuniversitariadelatlantico.gov.co
SUMMARY:Día Internacional de la Piel de Mariposa
DESCRIPTION:Inicio » Evento
URL:https://eseuniversitariadelatlantico.gov.co/event/dia-internacional-de-la-piel-de-mariposa/
END:VEVENT
BEGIN:VEVENT
DTSTART;VALUE=DATE:20241025
DTEND;VALUE=DATE:20241026
DTSTAMP:20260420T103313
CREATED:20241020T212235Z
LAST-MODIFIED:20241020T212235Z
UID:24191-1729814400-1729900799@eseuniversitariadelatlantico.gov.co
SUMMARY:Día Mundial de los Síndromes Mielodisplásicos (SMD)
DESCRIPTION:Inicio » Evento
URL:https://eseuniversitariadelatlantico.gov.co/event/dia-mundial-de-los-sindromes-mielodisplasicos-smd/
END:VEVENT
BEGIN:VEVENT
DTSTART;VALUE=DATE:20241025
DTEND;VALUE=DATE:20241026
DTSTAMP:20260420T103313
CREATED:20241020T213119Z
LAST-MODIFIED:20241020T213119Z
UID:24195-1729814400-1729900799@eseuniversitariadelatlantico.gov.co
SUMMARY:Día del Instrumentador Quirúrgico
DESCRIPTION:Inicio » Evento
URL:https://eseuniversitariadelatlantico.gov.co/event/dia-del-instrumentador-quirurgico-2/
END:VEVENT
END:VCALENDAR