BEGIN:VCALENDAR
VERSION:2.0
PRODID:-// - ECPv6.10.1.1//NONSGML v1.0//EN
CALSCALE:GREGORIAN
METHOD:PUBLISH
X-ORIGINAL-URL:https://eseuniversitariadelatlantico.gov.co
X-WR-CALDESC:Eventos para 
REFRESH-INTERVAL;VALUE=DURATION:PT1H
X-Robots-Tag:noindex
X-PUBLISHED-TTL:PT1H
BEGIN:VTIMEZONE
TZID:UTC
BEGIN:STANDARD
TZOFFSETFROM:+0000
TZOFFSETTO:+0000
TZNAME:UTC
DTSTART:20240101T000000
END:STANDARD
END:VTIMEZONE
BEGIN:VEVENT
DTSTART;VALUE=DATE:20241212
DTEND;VALUE=DATE:20241213
DTSTAMP:20260420T081432
CREATED:20241212T190232Z
LAST-MODIFIED:20241212T190232Z
UID:24808-1733961600-1734047999@eseuniversitariadelatlantico.gov.co
SUMMARY:Día de la Salud Universal
DESCRIPTION:Inicio » Evento
URL:https://eseuniversitariadelatlantico.gov.co/event/dia-de-la-salud-universal-2/
END:VEVENT
END:VCALENDAR