BEGIN:VCALENDAR
VERSION:2.0
PRODID:-// - ECPv6.10.1.1//NONSGML v1.0//EN
CALSCALE:GREGORIAN
METHOD:PUBLISH
X-ORIGINAL-URL:https://eseuniversitariadelatlantico.gov.co
X-WR-CALDESC:Eventos para 
REFRESH-INTERVAL;VALUE=DURATION:PT1H
X-Robots-Tag:noindex
X-PUBLISHED-TTL:PT1H
BEGIN:VTIMEZONE
TZID:UTC
BEGIN:STANDARD
TZOFFSETFROM:+0000
TZOFFSETTO:+0000
TZNAME:UTC
DTSTART:20250101T000000
END:STANDARD
END:VTIMEZONE
BEGIN:VEVENT
DTSTART;TZID=UTC:20250130T080000
DTEND;TZID=UTC:20250130T170000
DTSTAMP:20260420T055440
CREATED:20241225T160030Z
LAST-MODIFIED:20241225T160030Z
UID:24864-1738224000-1738256400@eseuniversitariadelatlantico.gov.co
SUMMARY:Día Mundial de las Enfermedades Tropicales Desatendidas.
DESCRIPTION:Inicio » Evento
URL:https://eseuniversitariadelatlantico.gov.co/event/dia-mundial-de-las-enfermedades-tropicales-desatendidas/
END:VEVENT
END:VCALENDAR