BEGIN:VCALENDAR
VERSION:2.0
PRODID:-// - ECPv6.10.1.1//NONSGML v1.0//EN
CALSCALE:GREGORIAN
METHOD:PUBLISH
X-ORIGINAL-URL:https://eseuniversitariadelatlantico.gov.co
X-WR-CALDESC:Eventos para 
REFRESH-INTERVAL;VALUE=DURATION:PT1H
X-Robots-Tag:noindex
X-PUBLISHED-TTL:PT1H
BEGIN:VTIMEZONE
TZID:UTC
BEGIN:STANDARD
TZOFFSETFROM:+0000
TZOFFSETTO:+0000
TZNAME:UTC
DTSTART:20250101T000000
END:STANDARD
END:VTIMEZONE
BEGIN:VEVENT
DTSTART;VALUE=DATE:20250214
DTEND;VALUE=DATE:20250215
DTSTAMP:20260420T055625
CREATED:20250211T140523Z
LAST-MODIFIED:20250211T140523Z
UID:25064-1739491200-1739577599@eseuniversitariadelatlantico.gov.co
SUMMARY:Día Internacional de las Cardiopatías Congénitas
DESCRIPTION:Inicio » Evento
URL:https://eseuniversitariadelatlantico.gov.co/event/dia-internacional-de-las-cardiopatias-congenitas-3/
END:VEVENT
END:VCALENDAR