BEGIN:VCALENDAR
VERSION:2.0
PRODID:-// - ECPv6.10.1.1//NONSGML v1.0//EN
CALSCALE:GREGORIAN
METHOD:PUBLISH
X-ORIGINAL-URL:https://eseuniversitariadelatlantico.gov.co
X-WR-CALDESC:Eventos para 
REFRESH-INTERVAL;VALUE=DURATION:PT1H
X-Robots-Tag:noindex
X-PUBLISHED-TTL:PT1H
BEGIN:VTIMEZONE
TZID:UTC
BEGIN:STANDARD
TZOFFSETFROM:+0000
TZOFFSETTO:+0000
TZNAME:UTC
DTSTART:20240101T000000
END:STANDARD
END:VTIMEZONE
BEGIN:VEVENT
DTSTART;VALUE=DATE:20240921
DTEND;VALUE=DATE:20240922
DTSTAMP:20260421T054944
CREATED:20240916T160814Z
LAST-MODIFIED:20240916T160814Z
UID:23990-1726876800-1726963199@eseuniversitariadelatlantico.gov.co
SUMMARY:Día Mundial del Alzheimer
DESCRIPTION:Inicio » Evento
URL:https://eseuniversitariadelatlantico.gov.co/event/dia-mundial-del-alzheimer-3/
END:VEVENT
BEGIN:VEVENT
DTSTART;VALUE=DATE:20240922
DTEND;VALUE=DATE:20240923
DTSTAMP:20260421T054944
CREATED:20240919T160246Z
LAST-MODIFIED:20240919T160246Z
UID:24000-1726963200-1727049599@eseuniversitariadelatlantico.gov.co
SUMMARY:Día Mundial de la Leucemia Mieloide Crónica y Aguda
DESCRIPTION:Inicio » Evento
URL:https://eseuniversitariadelatlantico.gov.co/event/dia-mundial-de-la-leucemia-mieloide-cronica-y-aguda/
END:VEVENT
BEGIN:VEVENT
DTSTART;VALUE=DATE:20240922
DTEND;VALUE=DATE:20240923
DTSTAMP:20260421T054944
CREATED:20240919T160328Z
LAST-MODIFIED:20240919T160328Z
UID:24002-1726963200-1727049599@eseuniversitariadelatlantico.gov.co
SUMMARY:Día Mundial de la Narcolepsia
DESCRIPTION:Inicio » Evento
URL:https://eseuniversitariadelatlantico.gov.co/event/dia-mundial-de-la-narcolepsia/
END:VEVENT
BEGIN:VEVENT
DTSTART;VALUE=DATE:20240923
DTEND;VALUE=DATE:20240924
DTSTAMP:20260421T054944
CREATED:20240919T160414Z
LAST-MODIFIED:20240919T160414Z
UID:24004-1727049600-1727135999@eseuniversitariadelatlantico.gov.co
SUMMARY:Día Mundial del Síndrome de Piernas Inquietas
DESCRIPTION:Inicio » Evento
URL:https://eseuniversitariadelatlantico.gov.co/event/dia-mundial-del-sindrome-de-piernas-inquietas/
END:VEVENT
BEGIN:VEVENT
DTSTART;VALUE=DATE:20240924
DTEND;VALUE=DATE:20240925
DTSTAMP:20260421T054944
CREATED:20240919T160512Z
LAST-MODIFIED:20240919T160512Z
UID:24006-1727136000-1727222399@eseuniversitariadelatlantico.gov.co
SUMMARY:Día Mundial del Cáncer de Tiroides
DESCRIPTION:Inicio » Evento
URL:https://eseuniversitariadelatlantico.gov.co/event/dia-mundial-del-cancer-de-tiroides/
END:VEVENT
BEGIN:VEVENT
DTSTART;VALUE=DATE:20240924
DTEND;VALUE=DATE:20240925
DTSTAMP:20260421T054944
CREATED:20240924T133018Z
LAST-MODIFIED:20240924T133018Z
UID:24010-1727136000-1727222399@eseuniversitariadelatlantico.gov.co
SUMMARY:DIA MUNDIAL CONTRA EL CÁNCER DE TIROIDES
DESCRIPTION:Inicio » Evento
URL:https://eseuniversitariadelatlantico.gov.co/event/dia-mundial-contra-el-cancer-de-tiroides/
END:VEVENT
BEGIN:VEVENT
DTSTART;VALUE=DATE:20240925
DTEND;VALUE=DATE:20240926
DTSTAMP:20260421T054944
CREATED:20240924T143408Z
LAST-MODIFIED:20240924T143408Z
UID:24016-1727222400-1727308799@eseuniversitariadelatlantico.gov.co
SUMMARY:Día Internacional de la Ataxia
DESCRIPTION:Inicio » Evento
URL:https://eseuniversitariadelatlantico.gov.co/event/dia-internacional-de-la-ataxia/
END:VEVENT
BEGIN:VEVENT
DTSTART;VALUE=DATE:20240925
DTEND;VALUE=DATE:20240926
DTSTAMP:20260421T054944
CREATED:20240924T143858Z
LAST-MODIFIED:20240924T143858Z
UID:24018-1727222400-1727308799@eseuniversitariadelatlantico.gov.co
SUMMARY:Día Mundial del Farmacéutico
DESCRIPTION:Inicio » Evento
URL:https://eseuniversitariadelatlantico.gov.co/event/dia-mundial-del-farmaceutico-2/
END:VEVENT
BEGIN:VEVENT
DTSTART;VALUE=DATE:20240926
DTEND;VALUE=DATE:20240927
DTSTAMP:20260421T054944
CREATED:20240924T143956Z
LAST-MODIFIED:20240924T143956Z
UID:24022-1727308800-1727395199@eseuniversitariadelatlantico.gov.co
SUMMARY:Día Mundial de Prevención del Embarazo no Planificado en Adolescentes
DESCRIPTION:Inicio » Evento
URL:https://eseuniversitariadelatlantico.gov.co/event/dia-mundial-de-prevencion-del-embarazo-no-planificado-en-adolescentes/
END:VEVENT
BEGIN:VEVENT
DTSTART;VALUE=DATE:20240928
DTEND;VALUE=DATE:20240929
DTSTAMP:20260421T054944
CREATED:20240924T144118Z
LAST-MODIFIED:20240924T144118Z
UID:24024-1727481600-1727567999@eseuniversitariadelatlantico.gov.co
SUMMARY:Día Internacional del Síndrome Arnold Chiari
DESCRIPTION:Inicio » Evento
URL:https://eseuniversitariadelatlantico.gov.co/event/dia-internacional-del-sindrome-arnold-chiari-2/
END:VEVENT
BEGIN:VEVENT
DTSTART;VALUE=DATE:20240928
DTEND;VALUE=DATE:20240929
DTSTAMP:20260421T054944
CREATED:20240927T164139Z
LAST-MODIFIED:20240927T164139Z
UID:24086-1727481600-1727567999@eseuniversitariadelatlantico.gov.co
SUMMARY:Día Mundial de las Leucodistrofias
DESCRIPTION:Inicio » Evento
URL:https://eseuniversitariadelatlantico.gov.co/event/dia-mundial-de-las-leucodistrofias/
END:VEVENT
BEGIN:VEVENT
DTSTART;VALUE=DATE:20240929
DTEND;VALUE=DATE:20240930
DTSTAMP:20260421T054944
CREATED:20240927T164535Z
LAST-MODIFIED:20240927T164547Z
UID:24092-1727568000-1727654399@eseuniversitariadelatlantico.gov.co
SUMMARY:Día Mundial del Corazón
DESCRIPTION:Inicio » Evento
URL:https://eseuniversitariadelatlantico.gov.co/event/dia-mundial-del-corazon-3/
END:VEVENT
BEGIN:VEVENT
DTSTART;VALUE=DATE:20240929
DTEND;VALUE=DATE:20240930
DTSTAMP:20260421T054944
CREATED:20240927T164229Z
LAST-MODIFIED:20240927T164229Z
UID:24088-1727568000-1727654399@eseuniversitariadelatlantico.gov.co
SUMMARY:Día Internacional de las Personas Sordas
DESCRIPTION:Inicio » Evento
URL:https://eseuniversitariadelatlantico.gov.co/event/dia-internacional-de-las-personas-sordas-3/
END:VEVENT
BEGIN:VEVENT
DTSTART;VALUE=DATE:20240929
DTEND;VALUE=DATE:20240930
DTSTAMP:20260421T054944
CREATED:20240927T164329Z
LAST-MODIFIED:20240927T164329Z
UID:24090-1727568000-1727654399@eseuniversitariadelatlantico.gov.co
SUMMARY:Día Mundial de la Trombocitopenia Inmune Primaria
DESCRIPTION:Inicio » Evento
URL:https://eseuniversitariadelatlantico.gov.co/event/dia-mundial-de-la-trombocitopenia-inmune-primaria/
END:VEVENT
BEGIN:VEVENT
DTSTART;VALUE=DATE:20241001
DTEND;VALUE=DATE:20241002
DTSTAMP:20260421T054944
CREATED:20240930T150657Z
LAST-MODIFIED:20240930T150657Z
UID:24107-1727740800-1727827199@eseuniversitariadelatlantico.gov.co
SUMMARY:Día Internacional de la Enfermedad de Gaucher
DESCRIPTION:Inicio » Evento
URL:https://eseuniversitariadelatlantico.gov.co/event/dia-internacional-de-la-enfermedad-de-gaucher/
END:VEVENT
BEGIN:VEVENT
DTSTART;VALUE=DATE:20241001
DTEND;VALUE=DATE:20241002
DTSTAMP:20260421T054944
CREATED:20240930T150808Z
LAST-MODIFIED:20240930T150808Z
UID:24111-1727740800-1727827199@eseuniversitariadelatlantico.gov.co
SUMMARY:Día Mundial de la Urticaria Crónica
DESCRIPTION:Inicio » Evento
URL:https://eseuniversitariadelatlantico.gov.co/event/dia-mundial-de-la-urticaria-cronica-2/
END:VEVENT
BEGIN:VEVENT
DTSTART;TZID=UTC:20241001T080000
DTEND;TZID=UTC:20241001T170000
DTSTAMP:20260421T054944
CREATED:20240930T150730Z
LAST-MODIFIED:20240930T150730Z
UID:24109-1727769600-1727802000@eseuniversitariadelatlantico.gov.co
SUMMARY:Día Internacional de la Hepatitis C
DESCRIPTION:Inicio » Evento
URL:https://eseuniversitariadelatlantico.gov.co/event/dia-internacional-de-la-hepatitis-c-3/
END:VEVENT
BEGIN:VEVENT
DTSTART;VALUE=DATE:20241002
DTEND;VALUE=DATE:20241003
DTSTAMP:20260421T054944
CREATED:20241002T145521Z
LAST-MODIFIED:20241002T145521Z
UID:24113-1727827200-1727913599@eseuniversitariadelatlantico.gov.co
SUMMARY:Día Internacional de la No Violencia
DESCRIPTION:Inicio » Evento
URL:https://eseuniversitariadelatlantico.gov.co/event/dia-internacional-de-la-no-violencia/
END:VEVENT
BEGIN:VEVENT
DTSTART;TZID=UTC:20241002T080000
DTEND;TZID=UTC:20241002T090000
DTSTAMP:20260421T054944
CREATED:20240927T164046Z
LAST-MODIFIED:20240927T164046Z
UID:24084-1727856000-1727859600@eseuniversitariadelatlantico.gov.co
SUMMARY:SIMULACRO NACIONAL DE RESPUESTA A EMERGENCIAS 2024
DESCRIPTION:Inicio » Evento
URL:https://eseuniversitariadelatlantico.gov.co/event/simulacro-nacional-de-respuesta-a-emergencias-2024/
END:VEVENT
BEGIN:VEVENT
DTSTART;VALUE=DATE:20241004
DTEND;VALUE=DATE:20241005
DTSTAMP:20260421T054944
CREATED:20241002T145557Z
LAST-MODIFIED:20241002T145557Z
UID:24115-1728000000-1728086399@eseuniversitariadelatlantico.gov.co
SUMMARY:Día Mundial de la Sonrisa
DESCRIPTION:Inicio » Evento
URL:https://eseuniversitariadelatlantico.gov.co/event/dia-mundial-de-la-sonrisa-2/
END:VEVENT
BEGIN:VEVENT
DTSTART;VALUE=DATE:20241005
DTEND;VALUE=DATE:20241006
DTSTAMP:20260421T054944
CREATED:20241002T145630Z
LAST-MODIFIED:20241002T145845Z
UID:24117-1728086400-1728172799@eseuniversitariadelatlantico.gov.co
SUMMARY:Día Mundial de la Meningitis
DESCRIPTION:Inicio » Evento
URL:https://eseuniversitariadelatlantico.gov.co/event/dia-mundial-de-la-meningitis-4/
END:VEVENT
BEGIN:VEVENT
DTSTART;VALUE=DATE:20241007
DTEND;VALUE=DATE:20241008
DTSTAMP:20260421T054944
CREATED:20241002T145751Z
LAST-MODIFIED:20241002T145751Z
UID:24119-1728259200-1728345599@eseuniversitariadelatlantico.gov.co
SUMMARY:Día Internacional de la Neuralgia Trigeminal
DESCRIPTION:Inicio » Evento
URL:https://eseuniversitariadelatlantico.gov.co/event/dia-internacional-de-la-neuralgia-trigeminal-2/
END:VEVENT
BEGIN:VEVENT
DTSTART;VALUE=DATE:20241008
DTEND;VALUE=DATE:20241009
DTSTAMP:20260421T054944
CREATED:20241002T150040Z
LAST-MODIFIED:20241002T150040Z
UID:24121-1728345600-1728431999@eseuniversitariadelatlantico.gov.co
SUMMARY:Día Internacional de la Dislexia
DESCRIPTION:Inicio » Evento
URL:https://eseuniversitariadelatlantico.gov.co/event/dia-internacional-de-la-dislexia/
END:VEVENT
BEGIN:VEVENT
DTSTART;VALUE=DATE:20241010
DTEND;VALUE=DATE:20241011
DTSTAMP:20260421T054944
CREATED:20241008T135043Z
LAST-MODIFIED:20241008T135043Z
UID:24132-1728518400-1728604799@eseuniversitariadelatlantico.gov.co
SUMMARY:Día mundial de la seguridad mental
DESCRIPTION:Inicio » Evento
URL:https://eseuniversitariadelatlantico.gov.co/event/dia-mundial-de-la-seguridad-mental/
END:VEVENT
BEGIN:VEVENT
DTSTART;VALUE=DATE:20241010
DTEND;VALUE=DATE:20241011
DTSTAMP:20260421T054944
CREATED:20241008T135123Z
LAST-MODIFIED:20241008T135123Z
UID:24134-1728518400-1728604799@eseuniversitariadelatlantico.gov.co
SUMMARY:Día Mundial de la Visión
DESCRIPTION:Inicio » Evento
URL:https://eseuniversitariadelatlantico.gov.co/event/dia-mundial-de-la-vision/
END:VEVENT
BEGIN:VEVENT
DTSTART;VALUE=DATE:20241012
DTEND;VALUE=DATE:20241013
DTSTAMP:20260421T054944
CREATED:20241008T135230Z
LAST-MODIFIED:20241008T135230Z
UID:24136-1728691200-1728777599@eseuniversitariadelatlantico.gov.co
SUMMARY:Día Mundial de la Artritis Reumatoide
DESCRIPTION:Inicio » Evento
URL:https://eseuniversitariadelatlantico.gov.co/event/dia-mundial-de-la-artritis-reumatoide-2/
END:VEVENT
BEGIN:VEVENT
DTSTART;VALUE=DATE:20241012
DTEND;VALUE=DATE:20241013
DTSTAMP:20260421T054944
CREATED:20241008T135306Z
LAST-MODIFIED:20241008T135306Z
UID:24138-1728691200-1728777599@eseuniversitariadelatlantico.gov.co
SUMMARY:Día Mundial de los Cuidados Paliativos
DESCRIPTION:Inicio » Evento
URL:https://eseuniversitariadelatlantico.gov.co/event/dia-mundial-de-los-cuidados-paliativos-3/
END:VEVENT
BEGIN:VEVENT
DTSTART;VALUE=DATE:20241013
DTEND;VALUE=DATE:20241014
DTSTAMP:20260421T054944
CREATED:20241008T135410Z
LAST-MODIFIED:20241008T135410Z
UID:24140-1728777600-1728863999@eseuniversitariadelatlantico.gov.co
SUMMARY:Día Mundial de la Trombosis
DESCRIPTION:Inicio » Evento
URL:https://eseuniversitariadelatlantico.gov.co/event/dia-mundial-de-la-trombosis-2/
END:VEVENT
BEGIN:VEVENT
DTSTART;VALUE=DATE:20241021
DTEND;VALUE=DATE:20241022
DTSTAMP:20260421T054944
CREATED:20241020T211757Z
LAST-MODIFIED:20241020T211757Z
UID:24181-1729468800-1729555199@eseuniversitariadelatlantico.gov.co
SUMMARY:DÍA MUNDIAL DEL AHORRO DE ENERGÍA
DESCRIPTION:Inicio » Evento
URL:https://eseuniversitariadelatlantico.gov.co/event/dia-mundial-del-ahorro-de-energia/
END:VEVENT
BEGIN:VEVENT
DTSTART;VALUE=DATE:20241022
DTEND;VALUE=DATE:20241023
DTSTAMP:20260421T054944
CREATED:20241020T211859Z
LAST-MODIFIED:20241020T211859Z
UID:24183-1729555200-1729641599@eseuniversitariadelatlantico.gov.co
SUMMARY:Día Internacional del Síndrome de Phelan-McDermid
DESCRIPTION:Inicio » Evento
URL:https://eseuniversitariadelatlantico.gov.co/event/dia-internacional-del-sindrome-de-phelan-mcdermid/
END:VEVENT
END:VCALENDAR