BEGIN:VCALENDAR
VERSION:2.0
PRODID:-// - ECPv6.10.1.1//NONSGML v1.0//EN
CALSCALE:GREGORIAN
METHOD:PUBLISH
X-ORIGINAL-URL:https://eseuniversitariadelatlantico.gov.co
X-WR-CALDESC:Eventos para 
REFRESH-INTERVAL;VALUE=DURATION:PT1H
X-Robots-Tag:noindex
X-PUBLISHED-TTL:PT1H
BEGIN:VTIMEZONE
TZID:UTC
BEGIN:STANDARD
TZOFFSETFROM:+0000
TZOFFSETTO:+0000
TZNAME:UTC
DTSTART:20250101T000000
END:STANDARD
END:VTIMEZONE
BEGIN:VEVENT
DTSTART;TZID=UTC:20250404T080000
DTEND;TZID=UTC:20250405T170000
DTSTAMP:20260420T044030
CREATED:20250326T181200Z
LAST-MODIFIED:20250326T181200Z
UID:25274-1743753600-1743872400@eseuniversitariadelatlantico.gov.co
SUMMARY:RUTA DEL CORAZÓN
DESCRIPTION:Inicio » Evento
URL:https://eseuniversitariadelatlantico.gov.co/event/ruta-del-corazon/
END:VEVENT
BEGIN:VEVENT
DTSTART;VALUE=DATE:20250407
DTEND;VALUE=DATE:20250408
DTSTAMP:20260420T044030
CREATED:20250326T181429Z
LAST-MODIFIED:20250326T181429Z
UID:25281-1743984000-1744070399@eseuniversitariadelatlantico.gov.co
SUMMARY:DÍA MUNDIAL DE LA SALUD
DESCRIPTION:Inicio » Evento
URL:https://eseuniversitariadelatlantico.gov.co/event/dia-mundial-de-la-salud-4/
END:VEVENT
BEGIN:VEVENT
DTSTART;VALUE=DATE:20250408
DTEND;VALUE=DATE:20250409
DTSTAMP:20260420T044030
CREATED:20250326T181505Z
LAST-MODIFIED:20250326T181505Z
UID:25283-1744070400-1744156799@eseuniversitariadelatlantico.gov.co
SUMMARY:DÍA DEL INTENSIVISTA
DESCRIPTION:Inicio » Evento
URL:https://eseuniversitariadelatlantico.gov.co/event/dia-del-intensivista/
END:VEVENT
BEGIN:VEVENT
DTSTART;VALUE=DATE:20250416
DTEND;VALUE=DATE:20250417
DTSTAMP:20260420T044030
CREATED:20250326T181545Z
LAST-MODIFIED:20250326T181545Z
UID:25285-1744761600-1744847999@eseuniversitariadelatlantico.gov.co
SUMMARY:DÍA NACIONAL DEL CIRUJANO
DESCRIPTION:Inicio » Evento
URL:https://eseuniversitariadelatlantico.gov.co/event/dia-nacional-del-cirujano/
END:VEVENT
END:VCALENDAR