BEGIN:VCALENDAR
VERSION:2.0
PRODID:-// - ECPv6.10.1.1//NONSGML v1.0//EN
CALSCALE:GREGORIAN
METHOD:PUBLISH
X-ORIGINAL-URL:https://eseuniversitariadelatlantico.gov.co
X-WR-CALDESC:Eventos para 
REFRESH-INTERVAL;VALUE=DURATION:PT1H
X-Robots-Tag:noindex
X-PUBLISHED-TTL:PT1H
BEGIN:VTIMEZONE
TZID:UTC
BEGIN:STANDARD
TZOFFSETFROM:+0000
TZOFFSETTO:+0000
TZNAME:UTC
DTSTART:20240101T000000
END:STANDARD
END:VTIMEZONE
BEGIN:VEVENT
DTSTART;VALUE=DATE:20241101
DTEND;VALUE=DATE:20241102
DTSTAMP:20260420T081304
CREATED:20241029T135915Z
LAST-MODIFIED:20241029T135915Z
UID:24254-1730419200-1730505599@eseuniversitariadelatlantico.gov.co
SUMMARY:DÍA MUNDIAL DE LA ACROMEGALIA
DESCRIPTION:Inicio » Evento
URL:https://eseuniversitariadelatlantico.gov.co/event/dia-mundial-de-la-acromegalia/
END:VEVENT
BEGIN:VEVENT
DTSTART;VALUE=DATE:20241104
DTEND;VALUE=DATE:20241105
DTSTAMP:20260420T081304
CREATED:20241029T140201Z
LAST-MODIFIED:20241029T140549Z
UID:24256-1730678400-1730764799@eseuniversitariadelatlantico.gov.co
SUMMARY:DÍA DE VISIBILIDAD DEL SÍNDROME DE SUDECK
DESCRIPTION:Inicio » Evento
URL:https://eseuniversitariadelatlantico.gov.co/event/dia-de-visibilidad-del-sindrome-de-sudeck/
END:VEVENT
BEGIN:VEVENT
DTSTART;TZID=UTC:20241108T080000
DTEND;TZID=UTC:20241108T170000
DTSTAMP:20260420T081304
CREATED:20241029T140259Z
LAST-MODIFIED:20241029T140743Z
UID:24258-1731052800-1731085200@eseuniversitariadelatlantico.gov.co
SUMMARY:DÍA MUNDIAL DE LA RADIOLOGÍA
DESCRIPTION:Inicio » Evento
URL:https://eseuniversitariadelatlantico.gov.co/event/dia-mundial-de-la-radiologia/
END:VEVENT
BEGIN:VEVENT
DTSTART;TZID=UTC:20241112T080000
DTEND;TZID=UTC:20241112T170000
DTSTAMP:20260420T081304
CREATED:20241029T140351Z
LAST-MODIFIED:20241029T140501Z
UID:24260-1731398400-1731430800@eseuniversitariadelatlantico.gov.co
SUMMARY:DÍA MUNDIAL CONTRA LA NEUMONÍA
DESCRIPTION:Inicio » Evento
URL:https://eseuniversitariadelatlantico.gov.co/event/dia-mundial-contra-la-neumonia/
END:VEVENT
BEGIN:VEVENT
DTSTART;VALUE=DATE:20241114
DTEND;VALUE=DATE:20241115
DTSTAMP:20260420T081304
CREATED:20241030T190821Z
LAST-MODIFIED:20241030T190821Z
UID:24266-1731542400-1731628799@eseuniversitariadelatlantico.gov.co
SUMMARY:DÍA MUNDIAL DE LA DIABETES.
DESCRIPTION:Inicio » Evento
URL:https://eseuniversitariadelatlantico.gov.co/event/dia-mundial-de-la-diabetes-3/
END:VEVENT
BEGIN:VEVENT
DTSTART;VALUE=DATE:20241117
DTEND;VALUE=DATE:20241118
DTSTAMP:20260420T081304
CREATED:20241030T190933Z
LAST-MODIFIED:20241030T191114Z
UID:24268-1731801600-1731887999@eseuniversitariadelatlantico.gov.co
SUMMARY:DÍA DEL TERAPEUTA OCUPACIONAL
DESCRIPTION:Inicio » Evento
URL:https://eseuniversitariadelatlantico.gov.co/event/dia-del-terapeuta-ocupacionaldia-del-terapeuta-ocupacional/
END:VEVENT
BEGIN:VEVENT
DTSTART;TZID=UTC:20241118T080000
DTEND;TZID=UTC:20241124T170000
DTSTAMP:20260420T081304
CREATED:20241121T162843Z
LAST-MODIFIED:20241121T162843Z
UID:24383-1731916800-1732467600@eseuniversitariadelatlantico.gov.co
SUMMARY:Semana de Concienciación sobre el Azúcar 2024
DESCRIPTION:Inicio » Evento
URL:https://eseuniversitariadelatlantico.gov.co/event/semana-de-concienciacion-sobre-el-azucar-2024/
END:VEVENT
BEGIN:VEVENT
DTSTART;TZID=UTC:20241118T080000
DTEND;TZID=UTC:20241124T170000
DTSTAMP:20260420T081304
CREATED:20241121T181816Z
LAST-MODIFIED:20241121T181816Z
UID:24389-1731916800-1732467600@eseuniversitariadelatlantico.gov.co
SUMMARY:Semana Mundial de Concientización sobre el Uso de los Antibióticos
DESCRIPTION:Inicio » Evento
URL:https://eseuniversitariadelatlantico.gov.co/event/semana-mundial-de-concientizacion-sobre-el-uso-de-los-antibioticos/
END:VEVENT
BEGIN:VEVENT
DTSTART;VALUE=DATE:20241120
DTEND;VALUE=DATE:20241121
DTSTAMP:20260420T081304
CREATED:20241030T191030Z
LAST-MODIFIED:20241030T191030Z
UID:24270-1732060800-1732147199@eseuniversitariadelatlantico.gov.co
SUMMARY:DÍA DEL PSICÓLOGO
DESCRIPTION:Inicio » Evento
URL:https://eseuniversitariadelatlantico.gov.co/event/dia-del-psicologo-2/
END:VEVENT
BEGIN:VEVENT
DTSTART;VALUE=DATE:20241125
DTEND;VALUE=DATE:20241126
DTSTAMP:20260420T081304
CREATED:20241121T161306Z
LAST-MODIFIED:20241121T161306Z
UID:24379-1732492800-1732579199@eseuniversitariadelatlantico.gov.co
SUMMARY:Día Internacional para la Eliminación de la Violencia contra la Mujer
DESCRIPTION:Inicio » Evento
URL:https://eseuniversitariadelatlantico.gov.co/event/dia-internacional-para-la-eliminacion-de-la-violencia-contra-la-mujer/
END:VEVENT
BEGIN:VEVENT
DTSTART;VALUE=DATE:20241130
DTEND;VALUE=DATE:20241201
DTSTAMP:20260420T081304
CREATED:20241121T161509Z
LAST-MODIFIED:20241121T161509Z
UID:24381-1732924800-1733011199@eseuniversitariadelatlantico.gov.co
SUMMARY:Día Internacional de la lucha contra los Trastornos de la Conducta Alimentaria (TCA)
DESCRIPTION:Inicio » Evento
URL:https://eseuniversitariadelatlantico.gov.co/event/dia-internacional-de-la-lucha-contra-los-trastornos-de-la-conducta-alimentaria-tca/
END:VEVENT
END:VCALENDAR