BEGIN:VCALENDAR
VERSION:2.0
PRODID:-// - ECPv6.10.1.1//NONSGML v1.0//EN
CALSCALE:GREGORIAN
METHOD:PUBLISH
X-ORIGINAL-URL:https://eseuniversitariadelatlantico.gov.co
X-WR-CALDESC:Eventos para 
REFRESH-INTERVAL;VALUE=DURATION:PT1H
X-Robots-Tag:noindex
X-PUBLISHED-TTL:PT1H
BEGIN:VTIMEZONE
TZID:UTC
BEGIN:STANDARD
TZOFFSETFROM:+0000
TZOFFSETTO:+0000
TZNAME:UTC
DTSTART:20250101T000000
END:STANDARD
END:VTIMEZONE
BEGIN:VEVENT
DTSTART;VALUE=DATE:20250210
DTEND;VALUE=DATE:20250211
DTSTAMP:20260420T043739
CREATED:20250207T224220Z
LAST-MODIFIED:20250207T225849Z
UID:25053-1739145600-1739231999@eseuniversitariadelatlantico.gov.co
SUMMARY:CAMPAÑA DE DONACIÓN DE SANGRE
DESCRIPTION:Inicio » Evento
URL:https://eseuniversitariadelatlantico.gov.co/event/donacion-de-sangre/
LOCATION:CENTRO DE ATENCIÓN COMPLEMENTARIA ESPECIALIZADA ALTA COMPLEJIDAD\, CALLE 57 #23-100\, BARRANQUILLA
END:VEVENT
BEGIN:VEVENT
DTSTART;VALUE=DATE:20250214
DTEND;VALUE=DATE:20250215
DTSTAMP:20260420T043739
CREATED:20250211T140523Z
LAST-MODIFIED:20250211T140523Z
UID:25064-1739491200-1739577599@eseuniversitariadelatlantico.gov.co
SUMMARY:Día Internacional de las Cardiopatías Congénitas
DESCRIPTION:Inicio » Evento
URL:https://eseuniversitariadelatlantico.gov.co/event/dia-internacional-de-las-cardiopatias-congenitas-3/
END:VEVENT
BEGIN:VEVENT
DTSTART;VALUE=DATE:20250218
DTEND;VALUE=DATE:20250219
DTSTAMP:20260420T043739
CREATED:20250211T140600Z
LAST-MODIFIED:20250211T140600Z
UID:25066-1739836800-1739923199@eseuniversitariadelatlantico.gov.co
SUMMARY:Día internacional del Síndrome de Asperger
DESCRIPTION:Inicio » Evento
URL:https://eseuniversitariadelatlantico.gov.co/event/dia-internacional-del-sindrome-de-asperger-3/
END:VEVENT
BEGIN:VEVENT
DTSTART;VALUE=DATE:20250222
DTEND;VALUE=DATE:20250223
DTSTAMP:20260420T043739
CREATED:20250211T140634Z
LAST-MODIFIED:20250211T140634Z
UID:25068-1740182400-1740268799@eseuniversitariadelatlantico.gov.co
SUMMARY:Día Mundial de la Encefalitis
DESCRIPTION:Inicio » Evento
URL:https://eseuniversitariadelatlantico.gov.co/event/dia-mundial-de-la-encefalitis/
END:VEVENT
BEGIN:VEVENT
DTSTART;VALUE=DATE:20250225
DTEND;VALUE=DATE:20250226
DTSTAMP:20260420T043739
CREATED:20250211T140713Z
LAST-MODIFIED:20250211T140713Z
UID:25070-1740441600-1740527999@eseuniversitariadelatlantico.gov.co
SUMMARY:Día Internacional del Implante Coclear
DESCRIPTION:Inicio » Evento
URL:https://eseuniversitariadelatlantico.gov.co/event/dia-internacional-del-implante-coclear-2/
END:VEVENT
BEGIN:VEVENT
DTSTART;VALUE=DATE:20250228
DTEND;VALUE=DATE:20250301
DTSTAMP:20260420T043739
CREATED:20250211T140746Z
LAST-MODIFIED:20250211T140746Z
UID:25072-1740700800-1740787199@eseuniversitariadelatlantico.gov.co
SUMMARY:Día Mundial de las Enfermedades Raras
DESCRIPTION:Inicio » Evento
URL:https://eseuniversitariadelatlantico.gov.co/event/dia-mundial-de-las-enfermedades-raras-3/
END:VEVENT
END:VCALENDAR